BEGIN:VCALENDAR
VERSION:2.0
PRODID:-//GRÜNE Wald - ECPv6.15.15//NONSGML v1.0//EN
CALSCALE:GREGORIAN
METHOD:PUBLISH
X-WR-CALNAME:GRÜNE Wald
X-ORIGINAL-URL:https://gruene-wald.ch
X-WR-CALDESC:Veranstaltungen für GRÜNE Wald
REFRESH-INTERVAL;VALUE=DURATION:PT1H
X-Robots-Tag:noindex
X-PUBLISHED-TTL:PT1H
BEGIN:VTIMEZONE
TZID:Europe/Zurich
BEGIN:DAYLIGHT
TZOFFSETFROM:+0100
TZOFFSETTO:+0200
TZNAME:CEST
DTSTART:20240331T010000
END:DAYLIGHT
BEGIN:STANDARD
TZOFFSETFROM:+0200
TZOFFSETTO:+0100
TZNAME:CET
DTSTART:20241027T010000
END:STANDARD
BEGIN:DAYLIGHT
TZOFFSETFROM:+0100
TZOFFSETTO:+0200
TZNAME:CEST
DTSTART:20250330T010000
END:DAYLIGHT
BEGIN:STANDARD
TZOFFSETFROM:+0200
TZOFFSETTO:+0100
TZNAME:CET
DTSTART:20251026T010000
END:STANDARD
BEGIN:DAYLIGHT
TZOFFSETFROM:+0100
TZOFFSETTO:+0200
TZNAME:CEST
DTSTART:20260329T010000
END:DAYLIGHT
BEGIN:STANDARD
TZOFFSETFROM:+0200
TZOFFSETTO:+0100
TZNAME:CET
DTSTART:20261025T010000
END:STANDARD
END:VTIMEZONE
BEGIN:VEVENT
DTSTART;TZID=Europe/Zurich:20251029T193000
DTEND;TZID=Europe/Zurich:20251029T220000
DTSTAMP:20260421T103056
CREATED:20250528T155737Z
LAST-MODIFIED:20250619T161330Z
UID:4808-1761766200-1761775200@gruene-wald.ch
SUMMARY:GrüeneWalder Mitgliederversammlung
DESCRIPTION:
URL:https://gruene-wald.ch/event/mitgliederversammlung-copy-copy
LOCATION:Aktuell
CATEGORIES:Grüne Walder
END:VEVENT
END:VCALENDAR